BEGIN:VCALENDAR
METHOD:REQUEST
PRODID:Microsoft Exchange Server 2010
VERSION:2.0
BEGIN:VTIMEZONE
TZID:UTC
BEGIN:STANDARD
DTSTART:16010101T000000
TZOFFSETFROM:+0000
TZOFFSETTO:+0000
END:STANDARD
BEGIN:DAYLIGHT
DTSTART:16010101T000000
TZOFFSETFROM:+0000
TZOFFSETTO:+0000
END:DAYLIGHT
END:VTIMEZONE
BEGIN:VEVENT
ORGANIZER;CN=ICANN Policy Calendar:MAILTO:PolicyCalendar@icann.org
ATTENDEE;ROLE=REQ-PARTICIPANT;PARTSTAT=NEEDS-ACTION;RSVP=FALSE;CN=Exec. Com
 m:MAILTO:ncuc-ec@lists.ncuc.org
DESCRIPTION;LANGUAGE=en-US:Please join the NCUC-EC call on Thursday\, 09 Ap
 ril @ 15:00 UTC for 60 minutes.\n\nJoin Zoom Meeting: https://icann.zoom.u
 s/j/94092142200?pwd=TnpWeFhha3lsbytJRG1tR1E3MHIwUT09\nMeeting ID: 940 9214
  2200\nPasscode: APaP=1ET!9\n\nAUDIO ONLY DETAILS:\n      One tap mobile\n
       &#43\;13017158592\,\,94092142200#\,\,\,\,*3944587510# US (Washington
  DC)\n      &#43\;13126266799\,\,94092142200#\,\,\,\,*3944587510# US (Chic
 ago)\n\n      Find your local number: https://icann.zoom.us/u/ajYiTPmj5\n 
      Meeting ID: 940 9214 2200\n\n
UID:8AB336A8-E64D-4AFE-B4B4-07E7207F44A4
SUMMARY;LANGUAGE=en-US:NCUC EC Monthly Call | 09 April 2026 @ 15:00 UTC
DTSTART;TZID=UTC:20260409T150000
DTEND;TZID=UTC:20260409T160000
CLASS:PUBLIC
PRIORITY:5
DTSTAMP:20260401T173052Z
TRANSP:OPAQUE
STATUS:CONFIRMED
SEQUENCE:0
LOCATION;LANGUAGE=en-US:https://icann.zoom.us/j/94092142200?pwd=TnpWeFhha3l
 sbytJRG1tR1E3MHIwUT09
X-MICROSOFT-CDO-APPT-SEQUENCE:0
X-MICROSOFT-CDO-OWNERAPPTID:2124680395
X-MICROSOFT-CDO-BUSYSTATUS:TENTATIVE
X-MICROSOFT-CDO-INTENDEDSTATUS:BUSY
X-MICROSOFT-CDO-ALLDAYEVENT:FALSE
X-MICROSOFT-CDO-IMPORTANCE:1
X-MICROSOFT-CDO-INSTTYPE:0
X-MICROSOFT-DONOTFORWARDMEETING:FALSE
X-MICROSOFT-DISALLOW-COUNTER:TRUE
BEGIN:VALARM
DESCRIPTION:REMINDER
TRIGGER;RELATED=START:-PT15M
ACTION:DISPLAY
END:VALARM
END:VEVENT
END:VCALENDAR
